BEGIN:VCALENDAR
VERSION:2.0
PRODID:-//hacksw/handcal//NONSGML v1.0//EN
CALSCALE:GREGORIAN
BEGIN:VEVENT
ORGANIZER;CN=Alpha Teknova, Inc.:MAILTO:no-reply@gcs-web.com
DTEND:20260604T040100Z
UID:b0d88e4f-4ed4-4999-b77b-94990285e80d
DTSTAMP:1777084420
LOCATION:https://ir.teknova.com/events/event-details/william-blair-growth-stock-conference
DESCRIPTION:Event Details https://ir.teknova.com/events/event-details/william-blair-growth-stock-conference
URL;VALUE=URI:https://ir.teknova.com/events/event-details/william-blair-growth-stock-conference
SUMMARY:Alpha Teknova, Inc. - William Blair Growth Stock Conference
DTSTART:20260602T040000Z
END:VEVENT
END:VCALENDAR